Workbook

Sheet Katalogübersicht
A1: ASEING Rohrklassenkataloge für AutoCAD Plant 3D – Katalogübersicht & Preisliste
A2: A. Seitz Ingenieur GmbH · vertrieb@seitz-ingenieure.de · www.seitz-ingenieure.de · Stand 09/2026 · Preise netto zzgl. MwSt.
A3: Spalte „Auswahl“: Kataloge mit x markieren – die Summe unten zeigt den Einzelpreis Ihrer Auswahl und den Vergleich zum Gesamtpaket.
A5: Nr. | B5: Gruppe | C5: Katalog | D5: Inhalt | E5: Bauteilarten | F5: Normen (Auszug) | G5: Werkstoffe (Auszug) | H5: Druckstufen | I5: Nennweiten | J5: Teile | K5: Familien | L5: Teile mit Gewicht | M5: Preisstufe | N5: Preis netto (€) | O5: Auswahl (x) | P5: Hinweis | Q5: Datei
A6: Stahl – Rohre & Formteile
A7: STA-01 | B7: Stahl – Rohre & Formteile | C7: Stahl Rohre & Fittinge | D7: Rohre DIN EN 10216-2/10217-2, Formteile DIN EN 10253-2/-3, Flansche DIN EN 1092-1, Dichtungen DIN EN 1514-1, Schraubensätze, Stutzen – P235GH | E7: Stutzen, Reduzierungen, Bögen, T-Stücke, Dichtungen, Rohre, Flansche, Schraubensätze | F7: DIN EN 10253-2; DIN EN 10253-3; DIN EN 1092-1; DIN EN 1514-1 | G7: P235GH | H7: PN 10, PN 16, PN 25, PN 40, PN 63, PN 100 | I7: DN 6 – 2400 | J7: 7391 | K7: 130 | L7: 2578 | M7: XL | N7: =INDEX(Preise!$C$5:$C$8,MATCH(M7,Preise!$A$5:$A$8,0)) -> 890 | P7: Teilmenge des Katalogs mit Wandstärkenreihen 1–8 | Q7: CPak DIN EN Stahl\Stahl_Rohre_und_Fittings-Katalog.pcat
A8: STA-02 | B8: Stahl – Rohre & Formteile | C8: Stahl Rohre & Fittinge – Wandstärkenreihen 1–8 | D8: Wie Stahl Rohre & Fittinge, durchgängig in Wandstärkenreihen 1–8 für Rohre, Bögen, T-Stücke, Reduzierungen, Kappen, Sattelstutzen – P235GH | E8: Stutzen, Reduzierungen, Bögen, T-Stücke, Dichtungen, Rohre, Kappen, Flansche | F8: DIN EN 10253-2; EN 13480; DIN EN 10253-3; DIN EN 1092-1 | G8: P235GH | H8: PN 10, PN 16, PN 25, PN 40, PN 63, PN 100, PN 160, PN 250 | I8: DN 6 – 2400 | J8: 12572 | K8: 256 | L8: 6331 | M8: XL | N8: =INDEX(Preise!$C$5:$C$8,MATCH(M8,Preise!$A$5:$A$8,0)) -> 890 | P8: Obermenge des Stahlkatalogs | Q8: CPak DIN EN Stahl\Stahl_Rohre_und_Fittings-Katalog-Wandstärkenreihe.pcat
A9: STA-03 | B9: Stahl – Rohre & Formteile | C9: Stahl Rohre & Fittinge DIN/ASME | D9: Stahlrohrleitungsteile nach DIN EN mit ASME-Flanschen (Class 150), Steckscheiben, Bestelltexte nach DIN 21057 | E9: Stutzen, Dichtungen, Reduzierungen, T-Stücke, Bögen, Steckscheiben, Flansche, Rohre | F9: DIN EN 10253-2; DIN 21057-1; DIN EN 1092-1; DIN EN 12560-1 | G9: P235GH; PTFE; Graphit; 25CrMo4 | H9: PN 10, Class 150 | I9: DN 6 – 2400 | J9: 3567 | K9: 62 | L9: 170 | M9: L | N9: =INDEX(Preise!$C$5:$C$8,MATCH(M9,Preise!$A$5:$A$8,0)) -> 590 | Q9: CPak DIN EN Stahl\Stahl_Rohre_und_Fittings-Katalog_DIN_ASME.pcat
A10: Edelstahl – Rohre & Formteile
A11: EDS-01 | B11: Edelstahl – Rohre & Formteile | C11: Edelstahl Rohre & Fittinge | D11: Rohre DIN EN 10217-7, Formteile DIN EN 10253-4, Flansche DIN EN 1092-1 (Vorschweiß-, Los-, Glattflansch), Dichtungen – 1.4541, 1.4306, 1.4571 | E11: Bögen, Stutzen, Reduzierungen, T-Stücke, Rohre, Dichtungen, Flansche, Schraubensätze | F11: DIN EN 10253-4; DIN EN 1092-1; DIN EN 1514-1; DIN EN 10217-7 | G11: X6CrNiTi18-10; X2CrNi18-9; X6CrNiMoTi17-12-2; X6CrNiTi18-10, X6CrNiMoTi17-12-2 | H11: PN 2.5, PN 6, PN 10, PN 16, PN 25, PN 40, PN 63, PN 100 | I11: DN 6 – 4000 | J11: 5028 | K11: 135 | L11: 1604 | M11: XL | N11: =INDEX(Preise!$C$5:$C$8,MATCH(M11,Preise!$A$5:$A$8,0)) -> 890 | Q11: CPak DIN EN Edelstahl\Edelstahl_Rohre_und_Fittings-Katalog.pcat
A12: EDS-02 | B12: Edelstahl – Rohre & Formteile | C12: Edelstahl Rohre & Fittinge DIN/ASME | D12: Edelstahl nach DIN EN plus ASME-Flansche (Class 150), Steckscheiben, Stutzen; Bestelltexte nach DIN 21057 | E12: Stutzen, Dichtungen, T-Stücke, Reduzierungen, Steckscheiben, Bögen, Flansche, Rohre | F12: DIN 21057-1; DIN EN 10253-4; DIN EN 1514-1; DIN EN 1092-1 | G12: Edelstahl; X2CrNiMo17-12-2; X5CrNi18-10/X2CrNi18-9; X1NiCrMoCu25-20-5 | H12: PN 6, PN 10, PN 16, PN 40, Class 150 | I12: DN 6 – 3000 | J12: 10578 | K12: 164 | L12: 441 | M12: XL | N12: =INDEX(Preise!$C$5:$C$8,MATCH(M12,Preise!$A$5:$A$8,0)) -> 890 | Q12: CPak DIN EN Edelstahl\Edelstahl_Rohre_und_Fittings-Katalog_DIN_ASME.pcat
A13: EDS-03 | B13: Edelstahl – Rohre & Formteile | C13: Edelstahl & Sonderwerkstoffe DIN | D13: Formteile DIN 2615/2616, EN 10253-4, Bördel/Losflansche – u. a. AISI 321/316Ti, Alloy 800H | E13: Reduzierungen, T-Stücke, Flansche, Blindflansche, Bögen, Bunde, Schraubensätze, Dichtungen | F13: DIN EN 10253-4-A; DIN 2615; EN 10253-4-A; DIN 2616-2 | G13: AISI 321; Alloy 800H; AISI 316Ti; Sandvik SX Alloy | H13: PN 10, PN 16, PN 25, PN 40, PN 63, PN 100 | I13: DN 6 – 3000 | J13: 5019 | K13: 107 | L13: 2100 | M13: XL | N13: =INDEX(Preise!$C$5:$C$8,MATCH(M13,Preise!$A$5:$A$8,0)) -> 890 | Q13: CPak DIN EN Edelstahl\SS DIN Pipes and Fittings Catalog.pcat
A14: EDS-04 | B14: Edelstahl – Rohre & Formteile | C14: Aseptik-Bauteile | D14: Aseptik-Verbindungen DIN EN 11864, Formteile, Flansche, PTFE/FEP-Dichtungen – u. a. Hastelloy C22 (2.4602), PN10 | E14: Flansche, Reduzierungen, T-Stücke, Bögen, Schraubensätze, Dichtungen, Blindflansche, Rohre | F14: EN 10253-2; DIN EN 1092-1; DIN 2605; DIN EN 11864-2 | G14: Hastelloy C22; A4; PTFE; FEP | H14: PN 10 | I14: DN 10 – 100 | J14: 269 | K14: 23 | L14: 0 | M14: S | N14: =INDEX(Preise!$C$5:$C$8,MATCH(M14,Preise!$A$5:$A$8,0)) -> 190 | Q14: CPak DIN EN Edelstahl\Aseptik_Bauteile.pcat
A15: EDS-05 | B15: Edelstahl – Rohre & Formteile | C15: Geberit Mapress Edelstahl (Pressfitting) | D15: Pressfittingsystem Edelstahl: Rohre, Bögen, T-Stücke, Muffen, Übergänge, Flansche – PN16 | E15: T-Stücke, Bögen, Muffen/Kupplungen, Reduzierungen, Flansche, Rohre, Schraubensätze, Kappen | F15: DIN EN 10088 | G15: Edelstahl; Faserverbundwerkstoff; CrNi-Stahl | H15: PN 16 | I15: DN 10 – 100 | J15: 335 | K15: 28 | L15: 0 | M15: S | N15: =INDEX(Preise!$C$5:$C$8,MATCH(M15,Preise!$A$5:$A$8,0)) -> 190 | Q15: CPak DIN Bloecke\Geberit_Mapress_Edelstahl.pcat
A16: Emaille / DIN 2873
A17: EMA-01 | B17: Emaille / DIN 2873 | C17: Emaille DIN 2873 – Gesamtkatalog | D17: Emaillierte Rohrleitungsteile DIN 2873 (Email DD3009), Losflansche, Dichtungen, Schraubensätze, PN 2,5–100 | E17: Schraubensätze, Dichtungen, T-Stücke, Reduzierungen, Bögen, Flansche, Rohre, Nipple | F17: DIN 2873; DIN 2690; EN 10242; BS EN 10241 | G17: Email DD3009; 25CrMo4; Graphit; Aramid | H17: PN 1, PN 2.5, PN 6, PN 10, PN 16, PN 25, PN 40, PN 64, PN 100, PN 160 | I17: DN 6 – 2400 | J17: 9324 | K17: 500 | L17: 561 | M17: XL | N17: =INDEX(Preise!$C$5:$C$8,MATCH(M17,Preise!$A$5:$A$8,0)) -> 890 | Q17: CPak DIN geflanscht\DIN 2873 Pipes and Fittings Catalog.pcat
A18: EMA-02 | B18: Emaille / DIN 2873 | C18: Emaille DIN 2873 – PN10 | D18: Emaillierte Rohre, Formteile, Distanzscheiben und Kreuzstücke DIN 2873, PN10 | E18: Reduzierungen, Rohre, T-Stücke, Bögen, Distanzscheiben, Stutzen, Kreuzstücke, Dichtungen | F18: DIN 2873; DIN EN 102453-4; DIN EN 10253-4; DIN EN ISO 1127 | G18: Email DD3009; Edelstahl A4; P235GH-P265GH/PTFE; Stem | H18: PN 10 | I18: DN 6 – 2400 | J18: 1965 | K18: 112 | L18: 759 | M18: M | N18: =INDEX(Preise!$C$5:$C$8,MATCH(M18,Preise!$A$5:$A$8,0)) -> 390 | Q18: CPak DIN geflanscht\DIN2873_PN10_A_B1_Pipes_and_Fittings-Catalog.pcat
A19: EMA-03 | B19: Emaille / DIN 2873 | C19: Emaille DIN 2873 – PN16 | D19: Emaillierte Rohre, Formteile, Distanzscheiben und Kreuzstücke DIN 2873, PN16 | E19: Rohre, Distanzscheiben, Reduzierungen, T-Stücke, Bögen, Kreuzstücke, Dichtungen, Schraubensätze | F19: DIN 2873; DIN 2783; EN ISO 4032, EN ISO 4014; DIN EN 1514-1 | G19: Email DD3009; Graphit; 25CrMo4; EPDM/S235JR | H19: PN 16 | I19: DN 6 – 2400 | J19: 1180 | K19: 63 | L19: 530 | M19: M | N19: =INDEX(Preise!$C$5:$C$8,MATCH(M19,Preise!$A$5:$A$8,0)) -> 390 | Q19: CPak DIN geflanscht\DIN2873_PN16_A_Pipes_and_Fittings-Catalog.pcat
A20: Kunststoff – Rohre & Formteile
A21: KST-01 | B21: Kunststoff – Rohre & Formteile | C21: PE Polyethylen | D21: PE-Rohre und Formteile DIN 8074/8075, SDR 11/17, Vorschweißbunde, Losflansche, Schraubensätze | E21: Reduzierungen, T-Stücke, Schraubensätze, Bögen, Bunde, Rohre, Flansche, Kappen | F21: DIN EN 4014; DIN EN 1092-1; DIN 8074/75; G-WN 12-3116-1 WGER BBL1 | G21: PE; VA; St.verz.; PTFE | H21: PN 6, PN 10, PN 16 | I21: DN 10 – 1400 | J21: 3246 | K21: 260 | L21: 2263 | M21: L | N21: =INDEX(Preise!$C$5:$C$8,MATCH(M21,Preise!$A$5:$A$8,0)) -> 590 | Q21: CPak DIN Kunststoffe\PE-Polyethylen-Kunststoff Katalog.pcat
A22: KST-02 | B22: Kunststoff – Rohre & Formteile | C22: PP Polypropylen | D22: PP-Rohre und Formteile DIN 8077/8078, SDR 11/17, Flansche, Dichtungen | E22: Reduzierungen, Dichtungen, T-Stücke, Flansche, Bögen, Bunde, Schraubensätze, Kappen | F22: DIN EN 1092-1; DIN EN 4014; DIN 8077; EN 1092-1 Typ 04 | G22: PP; PPS; EPDM; St.verz. | H22: PN 6, PN 10, Class 150 | I22: DN 6 – 800 | J22: 1550 | K22: 115 | L22: 879 | M22: M | N22: =INDEX(Preise!$C$5:$C$8,MATCH(M22,Preise!$A$5:$A$8,0)) -> 390 | Q22: CPak DIN Kunststoffe\PP-Polypropylen-Kunststoff Katalog.pcat
A23: KST-03 | B23: Kunststoff – Rohre & Formteile | C23: PVC Polyvinylchlorid | D23: PVC-/PP-H-Abwasser- und Druckrohrsysteme mit Steckmuffen und Klebeverbindungen | E23: T-Stücke, Rohre, Bögen, Kappen, Dichtungen, Hülsen | G23: PP-H; PVC; PPS; SBR | I23: DN 32 – 800 | J23: 219 | K23: 33 | L23: 65 | M23: S | N23: =INDEX(Preise!$C$5:$C$8,MATCH(M23,Preise!$A$5:$A$8,0)) -> 190 | Q23: CPak DIN Kunststoffe\PVC-Polyvinylchlorid-Kunststoff Katalog.pcat
A24: KST-04 | B24: Kunststoff – Rohre & Formteile | C24: PVDF Polyvinylidenfluorid | D24: PVDF-Rohre und Formteile, Bunde, Muffen – PN16 | E24: Muffen/Kupplungen, Reduzierungen, Bögen, Rohre, Kappen, Bunde, T-Stücke | G24: PVDF | H24: PN 10, PN 16 | I24: DN 10 – 80 | J24: 93 | K24: 11 | L24: 76 | M24: S | N24: =INDEX(Preise!$C$5:$C$8,MATCH(M24,Preise!$A$5:$A$8,0)) -> 190 | Q24: CPak DIN Kunststoffe\PVDF-Polyvinylidenfluorid-Kunststoff Katalog.pcat
A25: KST-05 | B25: Kunststoff – Rohre & Formteile | C25: GFK / FRP | D25: Glasfaserverstärkte Kunststoffrohre (UP-GF, mit PVDF-/Chemie-Liner), Formteile, Flansche – PN10 | E25: Reduzierungen, T-Stücke, Stutzen, Bögen, Flansche, Blindflansche, Rohre, Bunde | G25: UP-GF/PVDF; UP-GF/chem. Barrier; UP-GF; PTFE | H25: PN 10 | I25: DN 25 – 400 | J25: 1632 | K25: 69 | L25: 1380 | M25: M | N25: =INDEX(Preise!$C$5:$C$8,MATCH(M25,Preise!$A$5:$A$8,0)) -> 390 | Q25: CPak DIN Kunststoffe\Pipes and Fittings Catalog_B1_PN10_FRP_GFK.pcat
A26: KST-06 | B26: Kunststoff – Rohre & Formteile | C26: Kunststoff Sammelkatalog PE/PP/PVC | D26: PE, PE100, PP und PVC-U in einem Katalog – für Projekte mit gemischten Kunststoffsystemen | E26: Reduzierungen, T-Stücke, Bögen, Bunde, Rohre, Kappen, Flansche, Muffen/Kupplungen | F26: DIN EN 1092-1; DIN 8074/75; G-WN 12-3116-1 WGER BBL1; DIN 8078 | G26: PE; PVC-U; PP; PE100 | H26: PN 6, PN 10, PN 16 | I26: DN 10 – 1400 | J26: 2164 | K26: 184 | L26: 1832 | M26: L | N26: =INDEX(Preise!$C$5:$C$8,MATCH(M26,Preise!$A$5:$A$8,0)) -> 590 | Q26: CPak DIN Kunststoffe\Plastic_Pipes_and_Fittings-Catalog.pcat
A27: KST-07 | B27: Kunststoff – Rohre & Formteile | C27: PE100 PN6 | D27: PE100-Rohre und Formteile SDR 17/33, Vorschweißbunde, Losflansche | E27: Schraubensätze, Reduzierungen, Rohre, T-Stücke, Bunde, Bögen, Kappen, Muffen/Kupplungen | F27: DIN EN 4014; DIN 8074/75 | G27: PE; VA; St.verz.; PE100 | H27: PN 6, PN 10 | I27: DN 10 – 1400 | J27: 575 | K27: 49 | L27: 287 | M27: M | N27: =INDEX(Preise!$C$5:$C$8,MATCH(M27,Preise!$A$5:$A$8,0)) -> 390 | P27: Teilmenge des Katalogs PE Polyethylen | Q27: CPak DIN Kunststoffe\Rohre_Fittinge_PE100_PN6.pcat
A28: KST-08 | B28: Kunststoff – Rohre & Formteile | C28: PE Sammlung SDR 11/17/33 | D28: PE-Rohrsystem in drei SDR-Reihen, inkl. Muffen, Bunde, Flansche, Schraubensätze | E28: Reduzierungen, T-Stücke, Schraubensätze, Bögen, Bunde, Kappen, Muffen/Kupplungen, Rohre | F28: DIN EN 4014; DIN 8074/75; DIN EN 1092-1; Sonderanfertigung wg. PN 10; EC/D- 2.6266 | G28: PE; St.verz.; VA | H28: PN 6, PN 10, PN 16 | I28: DN 10 – 800 | J28: 1555 | K28: 139 | L28: 1138 | M28: M | N28: =INDEX(Preise!$C$5:$C$8,MATCH(M28,Preise!$A$5:$A$8,0)) -> 390 | P28: Teilmenge des Katalogs PE Polyethylen | Q28: CPak DIN Kunststoffe\Rohre_Fittinge_Sammlung_PE_SDR11_17_33.pcat
A29: KST-09 | B29: Kunststoff – Rohre & Formteile | C29: PP Sammlung SDR 11/17/33 | D29: PP-Rohrsystem in drei SDR-Reihen, inkl. Flansche, Dichtungen, Schraubensätze | E29: Reduzierungen, Schraubensätze, T-Stücke, Bögen, Dichtungen, Flansche, Bunde, Kappen | F29: DIN EN 4014; EN 1092-1 Typ 04; DIN 8077; DIN EN 1092-1 | G29: PP; PPs; PP/Stahl; St.verz. | H29: PN 6, PN 10, PN 16, Class 150 | I29: DN 10 – 800 | J29: 1818 | K29: 168 | L29: 1279 | M29: M | N29: =INDEX(Preise!$C$5:$C$8,MATCH(M29,Preise!$A$5:$A$8,0)) -> 390 | Q29: CPak DIN Kunststoffe\Rohre_Fittinge_Sammlung_PP_SDR11_17_33.pcat
A30: KST-10 | B30: Kunststoff – Rohre & Formteile | C30: PVC-U Sammlung | D30: PVC-U-Rohre und Formteile (Kleben/Stecken), Verschraubungen, Übergänge | E30: Reduzierungen, Muffen/Kupplungen, T-Stücke, Bögen, Rohre, Schraubensätze, Kappen, Hülsen | F30: DIN EN 4014 | G30: PVC; VA; St.verz.; SBR | H30: PN 10, PN 16 | I30: DN 4 – 250 | J30: 829 | K30: 79 | L30: 593 | M30: M | N30: =INDEX(Preise!$C$5:$C$8,MATCH(M30,Preise!$A$5:$A$8,0)) -> 390 | Q30: CPak DIN Kunststoffe\Rohre_Fittinge_Sammlung_PVC.pcat
A31: KST-11 | B31: Kunststoff – Rohre & Formteile | C31: Kunststoffarmaturen | D31: Kugelhähne, Klappen, Membran- und Rückschlagventile aus PP, PVDF, PVC – mit Antrieben | E31: Antriebe, Armaturen | G31: PP; PVDF; PPS; PP/PE | H31: PN 10 | I31: DN 10 – 400 | J31: 283 | K31: 37 | L31: 64 | M31: S | N31: =INDEX(Preise!$C$5:$C$8,MATCH(M31,Preise!$A$5:$A$8,0)) -> 190 | Q31: CPak DIN Kunststoffe\Kunststoffarmaturen_kleinergleichDN50.pcat
A32: KST-12 | B32: Kunststoff – Rohre & Formteile | C32: Armaturen für PP/PE/PVDF-Rohrklassen | D32: Armaturen für Kunststoffrohrklassen inkl. Antriebe, PN10–PN25 | E32: Armaturen, Antriebe | F32: EN 1092; EN 1092-1; DIN 1092 | G32: VA; GG20; CRNiMo-Stahl; EN-GJS-400-15 | H32: PN 10, PN 16, PN 25 | I32: DN 6 – 600 | J32: 961 | K32: 130 | L32: 452 | M32: M | N32: =INDEX(Preise!$C$5:$C$8,MATCH(M32,Preise!$A$5:$A$8,0)) -> 390 | Q32: CPak DIN Kunststoffe\RKK_PP_PE_PVDF_Armaturen.pcat
A33: Lüftung, Abgas & Baukastensysteme
A34: LUF-01 | B34: Lüftung, Abgas & Baukastensysteme | C34: Abgasleitungen V4A | D34: Abgasrohre und Formteile 1.4571, Bögen, Reduzierungen, Flansche, Graphit-Dichtungen – PN6/PN10 | E34: Bögen, Reduzierungen, Flansche, T-Stücke, Schraubensätze, Dichtungen, Bunde, Armaturen | F34: EN 10253-4; DIN EN 10253-3; DIN EN 10253-4; DIN EN 1092-1 | G34: V4A; Kohlegraphit mit Spießblecheinlage | H34: PN 6, PN 10 | I34: DN 10 – 1200 | J34: 517 | K34: 48 | L34: 503 | M34: M | N34: =INDEX(Preise!$C$5:$C$8,MATCH(M34,Preise!$A$5:$A$8,0)) -> 390 | Q34: CPak DIN Luft\Abgas_V4A_Rohre_und_Fittings-Katalog-PN6_PN10.pcat
A35: LUF-02 | B35: Lüftung, Abgas & Baukastensysteme | C35: Lüftung DIN EN (Edelstahl) | D35: Lüftungs- und Abluftleitungen aus Edelstahl, Formteile, Flansche, Klappen – bis DN 3000 | E35: Bögen, Flansche, Reduzierungen, Schraubensätze, T-Stücke, Armaturen, Dichtungen, Blindflansche | F35: DIN EN 10253-3; EN 10253-4; DIN EN 10253-4; HNP-150-1 | G35: 1.4571 / 1.4404; 1.4541; Kohlegraphit mit Spießblecheinlage; 1.4878 | H35: PN 6, PN 10, PN 16 | I35: DN 10 – 3000 | J35: 501 | K35: 41 | L35: 442 | M35: M | N35: =INDEX(Preise!$C$5:$C$8,MATCH(M35,Preise!$A$5:$A$8,0)) -> 390 | Q35: CPak DIN Luft\DIN_EN_Lueftung-Rohre-Fittinge-Katalog.pcat
A36: LUF-03 | B36: Lüftung, Abgas & Baukastensysteme | C36: Isolierte Leitungen | D36: Edelstahlleitungen mit Isolierung DN 200–800, Sonderreduzierungen in festen Baulängen | E36: Bögen, Reduzierungen, T-Stücke, Flansche, Armaturen, Rohre, Schraubensätze, Dichtungen | F36: EN 10253-4; DIN EN 10253-3; DIN EN 10253-4; EN 1092-1 | G36: V4A; Kohlegraphit mit Spießblecheinlage | H36: PN 6, PN 10 | I36: DN 200 – 800 | J36: 447 | K36: 43 | L36: 443 | M36: S | N36: =INDEX(Preise!$C$5:$C$8,MATCH(M36,Preise!$A$5:$A$8,0)) -> 190 | P36: Teilmenge von Abgasleitungen V4A | Q36: CPak DIN Luft\Isolierte_Leitungen.pcat
A37: LUF-04 | B37: Lüftung, Abgas & Baukastensysteme | C37: Lüftung Stahl geflanscht | D37: Lüftungsrohre, Bögen, Abzweige, Hosenstücke, Kreuzungen aus Stahl – DN 63–2000 | E37: Bögen, Rohre, Reduzierungen, Kreuzstücke, Hosenstücke, Schraubensätze, T-Stücke, Flansche | F37: DIN 558; DIN 933 | G37: Stahl | H37: PN 10 | I37: DN 63 – 2000 | J37: 1133 | K37: 40 | L37: 0 | M37: M | N37: =INDEX(Preise!$C$5:$C$8,MATCH(M37,Preise!$A$5:$A$8,0)) -> 390 | Q37: CPak DIN Luft\Lueftung-Rohre-Fittinge.pcat
A38: LUF-05 | B38: Lüftung, Abgas & Baukastensysteme | C38: Lüftung Wickelfalzrohr | D38: Wickelfalzrohr, Bögen und T-Stücke DIN EN 1506 / DIN EN 12237, Stahlblech verzinkt | E38: Rohre, T-Stücke, Bögen | G38: Stahlblech,verzinkt; Stahlblech; Stahlblech, verzinkt | I38: DN 80 – 1250 | J38: 62 | K38: 4 | L38: 13 | M38: S | N38: =INDEX(Preise!$C$5:$C$8,MATCH(M38,Preise!$A$5:$A$8,0)) -> 190 | Q38: CPak DIN Luft\Lueftung.pcat
A39: LUF-06 | B39: Lüftung, Abgas & Baukastensysteme | C39: Baukastensystem Spannring (S&W) | D39: Rohrsysteme mit Spannring-/Klemmverbindung ähnlich DIN 24151/24154, Schellen, Abzweige, Klappen | E39: Bögen, Schraubensätze, Hosenstücke, Armaturen, Muffen/Kupplungen, Klemmen, Rohre, Flansche | F39: ähnlich DIN 24151; ähnlich wie DIN 24151; DIN EN 1092-1; DIN 11851 | G39: X5CrNi18-10; DC 01 A; Email DD3009; NBR (Perbunan) | H39: PN 6, PN 10, PN 25, PN 40 | I39: DN 6 – 3600 | J39: 1592 | K39: 92 | L39: 971 | M39: M | N39: =INDEX(Preise!$C$5:$C$8,MATCH(M39,Preise!$A$5:$A$8,0)) -> 390 | Q39: CPak DIN Luft\Rohre_und_Formteile_Baukastensystem.pcat
A40: Armaturen (DIN EN)
A41: ARM-01 | B41: Armaturen (DIN EN) | C41: Armaturen & Instrumente PN6 | D41: Absperr-, Regel- und Rückschlagarmaturen, Steckscheiben – Baulängen DIN EN 558 | E41: Armaturen, Steckscheiben | F41: DIN EN 558; DIN 2626 | G41: X5CrNi18-10/X2CrNi18-9 | H41: PN 6 | I41: DN 15 – 1000 | J41: 426 | K41: 20 | L41: 0 | M41: S | N41: =INDEX(Preise!$C$5:$C$8,MATCH(M41,Preise!$A$5:$A$8,0)) -> 190 | Q41: CPak DIN EN Armaturen\Armaturen_und_Instrumente_PN06.pcat
...

Sheet Preise
A1: Preisstufen & Gesamtpaket
A2: Blaue Werte sind Eingaben und können angepasst werden; alle Preise netto zzgl. MwSt.
A4: Stufe | B4: Teile im Katalog | C4: Preis Einzelkatalog (€)
A5: S | B5: bis 499 | C5: 190
A6: M | B6: 500 – 1.999 | C6: 390
A7: L | B7: 2.000 – 4.999 | C7: 590
A8: XL | B8: ab 5.000 | C8: 890
A10: Gesamtpaket (alle Kataloge) | C10: 5990
A11: enthält Installationshilfe, Einführung (remote) und 12 Monate Updates
A13: Hinweis
A14: Preisstufen und Gesamtpaketpreis sind ein Vorschlag (Stand 09/2026) und vor Veröffentlichung zu bestätigen.

Sheet Gruppen
A1: Übersicht nach Gruppen
A3: Gruppe | B3: Kataloge | C3: Teile | D3: Familien | E3: Teile mit Gewicht | F3: Summe Einzelpreise (€)
A4: Stahl – Rohre & Formteile | B4: =COUNTIF(Katalogübersicht!$B$6:$B$77,A4) -> 3 | C4: =SUMIF(Katalogübersicht!$B$6:$B$77,A4,Katalogübersicht!$J$6:$J$77) -> 23530 | D4: =SUMIF(Katalogübersicht!$B$6:$B$77,A4,Katalogübersicht!$K$6:$K$77) -> 448 | E4: =SUMIF(Katalogübersicht!$B$6:$B$77,A4,Katalogübersicht!$L$6:$L$77) -> 9079 | F4: =SUMIF(Katalogübersicht!$B$6:$B$77,A4,Katalogübersicht!$N$6:$N$77) -> 2370
A5: Edelstahl – Rohre & Formteile | B5: =COUNTIF(Katalogübersicht!$B$6:$B$77,A5) -> 5 | C5: =SUMIF(Katalogübersicht!$B$6:$B$77,A5,Katalogübersicht!$J$6:$J$77) -> 21229 | D5: =SUMIF(Katalogübersicht!$B$6:$B$77,A5,Katalogübersicht!$K$6:$K$77) -> 457 | E5: =SUMIF(Katalogübersicht!$B$6:$B$77,A5,Katalogübersicht!$L$6:$L$77) -> 4145 | F5: =SUMIF(Katalogübersicht!$B$6:$B$77,A5,Katalogübersicht!$N$6:$N$77) -> 3050
A6: Emaille / DIN 2873 | B6: =COUNTIF(Katalogübersicht!$B$6:$B$77,A6) -> 3 | C6: =SUMIF(Katalogübersicht!$B$6:$B$77,A6,Katalogübersicht!$J$6:$J$77) -> 12469 | D6: =SUMIF(Katalogübersicht!$B$6:$B$77,A6,Katalogübersicht!$K$6:$K$77) -> 675 | E6: =SUMIF(Katalogübersicht!$B$6:$B$77,A6,Katalogübersicht!$L$6:$L$77) -> 1850 | F6: =SUMIF(Katalogübersicht!$B$6:$B$77,A6,Katalogübersicht!$N$6:$N$77) -> 1670
A7: Kunststoff – Rohre & Formteile | B7: =COUNTIF(Katalogübersicht!$B$6:$B$77,A7) -> 12 | C7: =SUMIF(Katalogübersicht!$B$6:$B$77,A7,Katalogübersicht!$J$6:$J$77) -> 14925 | D7: =SUMIF(Katalogübersicht!$B$6:$B$77,A7,Katalogübersicht!$K$6:$K$77) -> 1274 | E7: =SUMIF(Katalogübersicht!$B$6:$B$77,A7,Katalogübersicht!$L$6:$L$77) -> 10308 | F7: =SUMIF(Katalogübersicht!$B$6:$B$77,A7,Katalogübersicht!$N$6:$N$77) -> 4480
A8: Lüftung, Abgas & Baukastensysteme | B8: =COUNTIF(Katalogübersicht!$B$6:$B$77,A8) -> 6 | C8: =SUMIF(Katalogübersicht!$B$6:$B$77,A8,Katalogübersicht!$J$6:$J$77) -> 4252 | D8: =SUMIF(Katalogübersicht!$B$6:$B$77,A8,Katalogübersicht!$K$6:$K$77) -> 268 | E8: =SUMIF(Katalogübersicht!$B$6:$B$77,A8,Katalogübersicht!$L$6:$L$77) -> 2372 | F8: =SUMIF(Katalogübersicht!$B$6:$B$77,A8,Katalogübersicht!$N$6:$N$77) -> 1940
A9: Armaturen (DIN EN) | B9: =COUNTIF(Katalogübersicht!$B$6:$B$77,A9) -> 16 | C9: =SUMIF(Katalogübersicht!$B$6:$B$77,A9,Katalogübersicht!$J$6:$J$77) -> 22898 | D9: =SUMIF(Katalogübersicht!$B$6:$B$77,A9,Katalogübersicht!$K$6:$K$77) -> 1156 | E9: =SUMIF(Katalogübersicht!$B$6:$B$77,A9,Katalogübersicht!$L$6:$L$77) -> 4283 | F9: =SUMIF(Katalogübersicht!$B$6:$B$77,A9,Katalogübersicht!$N$6:$N$77) -> 6440
A10: Herstellerarmaturen & Kompensatoren (3D-Blöcke) | B10: =COUNTIF(Katalogübersicht!$B$6:$B$77,A10) -> 5 | C10: =SUMIF(Katalogübersicht!$B$6:$B$77,A10,Katalogübersicht!$J$6:$J$77) -> 676 | D10: =SUMIF(Katalogübersicht!$B$6:$B$77,A10,Katalogübersicht!$K$6:$K$77) -> 54 | E10: =SUMIF(Katalogübersicht!$B$6:$B$77,A10,Katalogübersicht!$L$6:$L$77) -> 0 | F10: =SUMIF(Katalogübersicht!$B$6:$B$77,A10,Katalogübersicht!$N$6:$N$77) -> 950
A11: Instrumente (EMSR) | B11: =COUNTIF(Katalogübersicht!$B$6:$B$77,A11) -> 4 | C11: =SUMIF(Katalogübersicht!$B$6:$B$77,A11,Katalogübersicht!$J$6:$J$77) -> 285 | D11: =SUMIF(Katalogübersicht!$B$6:$B$77,A11,Katalogübersicht!$K$6:$K$77) -> 125 | E11: =SUMIF(Katalogübersicht!$B$6:$B$77,A11,Katalogübersicht!$L$6:$L$77) -> 0 | F11: =SUMIF(Katalogübersicht!$B$6:$B$77,A11,Katalogübersicht!$N$6:$N$77) -> 760
A12: Skriptbasierte Kataloge & Halterungen | B12: =COUNTIF(Katalogübersicht!$B$6:$B$77,A12) -> 9 | C12: =SUMIF(Katalogübersicht!$B$6:$B$77,A12,Katalogübersicht!$J$6:$J$77) -> 703 | D12: =SUMIF(Katalogübersicht!$B$6:$B$77,A12,Katalogübersicht!$K$6:$K$77) -> 119 | E12: =SUMIF(Katalogübersicht!$B$6:$B$77,A12,Katalogübersicht!$L$6:$L$77) -> 163 | F12: =SUMIF(Katalogübersicht!$B$6:$B$77,A12,Katalogübersicht!$N$6:$N$77) -> 1710
A13: Summe | B13: =SUM(B4:B12) -> 63 | C13: =SUM(C4:C12) -> 100967 | D13: =SUM(D4:D12) -> 4576 | E13: =SUM(E4:E12) -> 32200 | F13: =SUM(F4:F12) -> 23370
